BEGIN:VCALENDAR
PRODID://WordPress//Event-Post-V5.9.2//EN
VERSION:2.0
BEGIN:VTIMEZONE
TZID:Europe/Berlin
BEGIN:DAYLIGHT
TZOFFSETFROM:+0100
TZOFFSETTO:+0200
DTSTART:19700329T020000
RRULE:FREQ=YEARLY;BYDAY=-1SU;BYMONTH=3
END:DAYLIGHT
BEGIN:STANDARD
TZOFFSETFROM:+0200
TZOFFSETTO:+0100
TZNAME:CET
DTSTART:19701025T030000
RRULE:FREQ=YEARLY;BYDAY=-1SU;BYMONTH=10
END:STANDARD
END:VTIMEZONE
BEGIN:VEVENT
SUMMARY:Besuch unserer englischen Partnerstädtler
UID:https://fritzlar-burnham-highbridge.de/besuch-unserer-englischen-partnerstaedtler/
LOCATION:
DTSTAMP:20260519
DTSTART;TZID=Europe/Berlin:20260519
DTEND;TZID=Europe/Berlin:20260523
DESCRIPTION:Es steht endlich fest:
Vom 19.05. bis 23.05.2026 kommen einige Mitglieder des englischen
Partnerstadtvereins uns in Fritzlar besuchen.
Das Programm ist in Planung und wird zeitnah hier bekannt gegeben.
END:VEVENT
END:VCALENDAR